
BEGIN:VCALENDAR
VERSION:2.0
METHOD:PUBLISH
CALSCALE:GREGORIAN
PRODID:-//WordPress - MECv7.12.0//EN
X-ORIGINAL-URL:https://cnlt.org/
X-WR-CALNAME:Celebrate New Life
X-WR-CALDESC:
REFRESH-INTERVAL;VALUE=DURATION:PT1H
X-PUBLISHED-TTL:PT1H
X-MS-OLK-FORCEINSPECTOROPEN:TRUE
BEGIN:VEVENT
CLASS:PUBLIC
UID:MEC-e68a83370faacfab07ae1f8aaf5352bb@cnlt.org
DTSTART:20260301T160000Z
DTEND:20260301T210000Z
DTSTAMP:20260215T182100Z
CREATED:20260215
LAST-MODIFIED:20260215
PRIORITY:5
SEQUENCE:1
TRANSP:OPAQUE
SUMMARY:Pastoral Installation Service
DESCRIPTION:Installation of Elder Mark Kelly\nSunday, March 1, 2026\n10:15 AM\n3050 Agape Lane\nTallahassee, FL 32311\n
URL:https://cnlt.org/events/pastoral-installation-service
END:VEVENT
BEGIN:VEVENT
CLASS:PUBLIC
UID:MEC-b448d8292fd27ae25bbc2e09ad43ff88@cnlt.org
DTSTART:20260606T120000Z
DTEND:20260606T150000Z
DTSTAMP:20260215T171500Z
CREATED:20260215
LAST-MODIFIED:20260215
PRIORITY:5
SEQUENCE:1
TRANSP:OPAQUE
SUMMARY:Farm Share
DESCRIPTION:
URL:https://cnlt.org/events/farm-share-2
ATTACH;FMTTYPE=:https://cnlt.org/wp-content/uploads/Farmshare-Primary-Logo-Color-RGB-White-Circle.avif
END:VEVENT
BEGIN:VEVENT
CLASS:PUBLIC
UID:MEC-9873eaad153c6c960616c89e54fe155a@cnlt.org
DTSTART:20260314T120000Z
DTEND:20260314T150000Z
DTSTAMP:20260215T171200Z
RDATE;VALUE=PERIOD:20260314T120000Z/20260314T150000Z
CREATED:20260215
LAST-MODIFIED:20260215
PRIORITY:5
SEQUENCE:5
TRANSP:OPAQUE
SUMMARY:Farm Share
DESCRIPTION:
URL:https://cnlt.org/events/farm-share
ATTACH;FMTTYPE=:https://cnlt.org/wp-content/uploads/Farmshare-Primary-Logo-Color-RGB-White-Circle.avif
END:VEVENT
BEGIN:VEVENT
CLASS:PUBLIC
UID:MEC-ba4002d88b8860b6a684ade8357aba56@cnlt.org
DTSTART:20251116T161500Z
DTEND:20251116T210000Z
DTSTAMP:20251026T164600Z
CREATED:20251026
LAST-MODIFIED:20251026
PRIORITY:5
SEQUENCE:1
TRANSP:OPAQUE
SUMMARY:The 33rd Church Anniversary
DESCRIPTION:Save The Date for A Legacy of Faith, A Future of Hope, Church Anniversary\n \nWe’re excited to invite you to join us for a powerful celebration at Celebrate New Life Tabernacle’s 33rd Church Anniversary!\nGuest Pastor: Pastor Joseph Davis, Truth Gatherers Dream Center Church\nTheme: “A Legacy of Faith, A Future of Hope”\nScripture: “Being confident of this very thing, that He who began a good work in you will carry it on to completion until the day of Christ Jesus.” — Philippians 1:6\nTogether, we’ll honor our legacy, celebrate God’s goodness in the present, and look forward to a future filled with hope and purpose.\nCome expecting a joyful worship experience, heartfelt fellowship, and a reminder that God’s work in us is still unfolding.\nLet’s celebrate 33 years of faith, family, and favor — and look ahead to even greater things!\n
URL:https://cnlt.org/events/the-33rd-church-anniversary
END:VEVENT
BEGIN:VEVENT
CLASS:PUBLIC
UID:MEC-034260c0426cf36118803ce0df4457fd@cnlt.org
DTSTART:20251214T160000Z
DTEND:20251214T183000Z
DTSTAMP:20251017T202400Z
CREATED:20251017
LAST-MODIFIED:20251017
PRIORITY:5
SEQUENCE:1
TRANSP:OPAQUE
SUMMARY:Christian Foundation Graduation
DESCRIPTION:
URL:https://cnlt.org/events/christian-foundation-graduation
END:VEVENT
BEGIN:VEVENT
CLASS:PUBLIC
UID:MEC-89b9c689a57b82e59074c6ba09aa394d@cnlt.org
DTSTART:20251031T230000Z
DTEND:20251101T020000Z
DTSTAMP:20251014T162400Z
CREATED:20251014
LAST-MODIFIED:20251014
PRIORITY:5
SEQUENCE:1
TRANSP:OPAQUE
SUMMARY:Hallepalooza Night
DESCRIPTION:Get ready for an unforgettable evening at our annual Hallepalooza Night on October 31st from 6:30 to 8:30 PM! This vibrant celebration is our exciting alternative to Halloween, shining a light on community spirit and joy. Bring the whole family for a night packed with delicious food, thrilling games, lively music, and so much more! Feel free to dress up in your favorite costumes, but please keep it fun and family-friendly—no ghoulish or provocative outfits, please. We can’t wait to celebrate with you!\n
URL:https://cnlt.org/events/hallepalooza-night
ATTACH;FMTTYPE=image/jpeg:https://cnlt.org/wp-content/uploads/Hallepalooza-Night-1.jpg
END:VEVENT
BEGIN:VEVENT
CLASS:PUBLIC
UID:MEC-8763d72bba4a7ade23f9ae1f09f4efc7@cnlt.org
DTSTART:20251019T050000Z
DTEND:20251020T050000Z
DTSTAMP:20251014T142100Z
CREATED:20251014
LAST-MODIFIED:20251014
PRIORITY:5
SEQUENCE:2
TRANSP:OPAQUE
SUMMARY:Pink Out Day
DESCRIPTION:Pink Out Day is a day where people wear pink to raise awareness for breast cancer, typically during October, which is Breast Cancer Awareness Month. It serves to honor survivors, support those currently battling the disease, and raise funds for research and programs aimed at prevention, early detection, and treatment.\n
URL:https://cnlt.org/events/pink-out-day
ATTACH;FMTTYPE=image/jpeg:https://cnlt.org/wp-content/uploads/Pink-Out.jpg
END:VEVENT
BEGIN:VEVENT
CLASS:PUBLIC
UID:MEC-77431ca7981f1f1483ae8a58bcbb6e0e@cnlt.org
DTSTART:20251013T130000Z
DTEND:20251013T230000Z
DTSTAMP:20251013T145600Z
CREATED:20251013
LAST-MODIFIED:20251013
PRIORITY:5
SEQUENCE:2
TRANSP:OPAQUE
SUMMARY:Pink Out Day Sunday
DESCRIPTION:Pink Out Day is a day where people wear pink to raise awareness for breast cancer, typically during October, which is Breast Cancer Awareness Month\n
URL:https://cnlt.org/events/pink-out-day-sunday
END:VEVENT
BEGIN:VEVENT
CLASS:PUBLIC
UID:MEC-0e98aeeb54acf612b9eb4e48a269814c@cnlt.org
DTSTART:20250516T000000Z
DTEND:20250516T013000Z
DTSTAMP:20250528T224300Z
RRULE:FREQ=WEEKLY;UNTIL=20260101T023000Z
CREATED:20250528
LAST-MODIFIED:20250528
PRIORITY:5
SEQUENCE:2
TRANSP:OPAQUE
SUMMARY:UVO Rehearsal
DESCRIPTION:
URL:https://cnlt.org/events/uvo-rehearsal
END:VEVENT
BEGIN:VEVENT
CLASS:PUBLIC
UID:MEC-d0f4dae80c3d0277922f8371d5827292@cnlt.org
DTSTART:20250808T050000Z
DTEND:20250809T050000Z
DTSTAMP:20250522T011600Z
CREATED:20250521
LAST-MODIFIED:20250521
PRIORITY:5
SEQUENCE:1
TRANSP:OPAQUE
SUMMARY:Golf Tournament
DESCRIPTION:
URL:https://cnlt.org/events/golf-tournament
END:VEVENT
BEGIN:VEVENT
CLASS:PUBLIC
UID:MEC-e6e9099e59636a015536fbb07f979201@cnlt.org
DTSTART:20250508T001500Z
DTEND:20250508T011500Z
DTSTAMP:20250522T011500Z
RRULE:FREQ=WEEKLY
CREATED:20250521
LAST-MODIFIED:20250521
PRIORITY:5
SEQUENCE:2
TRANSP:OPAQUE
SUMMARY:Wednesday Bible Study
DESCRIPTION:
URL:https://cnlt.org/events/wednesday-bible-study
END:VEVENT
BEGIN:VEVENT
CLASS:PUBLIC
UID:MEC-6d34d468ac8876333c4d7173b85efed9@cnlt.org
DTSTART:20250504T141500Z
DTEND:20250504T150000Z
DTSTAMP:20250522T011400Z
RRULE:FREQ=WEEKLY
CREATED:20250521
LAST-MODIFIED:20250521
PRIORITY:5
SEQUENCE:1
TRANSP:OPAQUE
SUMMARY:Sunday School
DESCRIPTION:
URL:https://cnlt.org/events/sunday-school
END:VEVENT
END:VCALENDAR
